BEGIN:VCALENDAR
VERSION:2.0
PRODID:-//Church of the Redeemer - ECPv6.15.17.1//NONSGML v1.0//EN
CALSCALE:GREGORIAN
METHOD:PUBLISH
X-ORIGINAL-URL:https://www.redeemerweb.com
X-WR-CALDESC:Events for Church of the Redeemer
REFRESH-INTERVAL;VALUE=DURATION:PT1H
X-Robots-Tag:noindex
X-PUBLISHED-TTL:PT1H
BEGIN:VTIMEZONE
TZID:America/New_York
BEGIN:DAYLIGHT
TZOFFSETFROM:-0500
TZOFFSETTO:-0400
TZNAME:EDT
DTSTART:20240310T070000
END:DAYLIGHT
BEGIN:STANDARD
TZOFFSETFROM:-0400
TZOFFSETTO:-0500
TZNAME:EST
DTSTART:20241103T060000
END:STANDARD
BEGIN:DAYLIGHT
TZOFFSETFROM:-0500
TZOFFSETTO:-0400
TZNAME:EDT
DTSTART:20250309T070000
END:DAYLIGHT
BEGIN:STANDARD
TZOFFSETFROM:-0400
TZOFFSETTO:-0500
TZNAME:EST
DTSTART:20251102T060000
END:STANDARD
BEGIN:DAYLIGHT
TZOFFSETFROM:-0500
TZOFFSETTO:-0400
TZNAME:EDT
DTSTART:20260308T070000
END:DAYLIGHT
BEGIN:STANDARD
TZOFFSETFROM:-0400
TZOFFSETTO:-0500
TZNAME:EST
DTSTART:20261101T060000
END:STANDARD
END:VTIMEZONE
BEGIN:VEVENT
DTSTART;TZID=America/New_York:20251022T100000
DTEND;TZID=America/New_York:20251022T120000
DTSTAMP:20260422T044621
CREATED:20250806T174758Z
LAST-MODIFIED:20250806T174758Z
UID:10003920-1761127200-1761134400@www.redeemerweb.com
SUMMARY:Women's Bible Study
DESCRIPTION:
URL:https://www.redeemerweb.com/event/womens-bible-study-24/
END:VEVENT
BEGIN:VEVENT
DTSTART;TZID=America/New_York:20251022T184500
DTEND;TZID=America/New_York:20251022T201500
DTSTAMP:20260422T044621
CREATED:20250806T174759Z
LAST-MODIFIED:20250806T174759Z
UID:10003921-1761158700-1761164100@www.redeemerweb.com
SUMMARY:Men's Wednesday Night Fireside
DESCRIPTION:
URL:https://www.redeemerweb.com/event/mens-wednesday-night-fireside-60/
END:VEVENT
BEGIN:VEVENT
DTSTART;TZID=America/New_York:20251024T063000
DTEND;TZID=America/New_York:20251024T073000
DTSTAMP:20260422T044621
CREATED:20250806T174800Z
LAST-MODIFIED:20250806T174800Z
UID:10003922-1761287400-1761291000@www.redeemerweb.com
SUMMARY:Men's Friday Fellowship
DESCRIPTION:
URL:https://www.redeemerweb.com/event/mens-friday-fellowship-63/
END:VEVENT
BEGIN:VEVENT
DTSTART;TZID=America/New_York:20251026T103000
DTEND;TZID=America/New_York:20251026T114500
DTSTAMP:20260422T044621
CREATED:20250806T174801Z
LAST-MODIFIED:20250806T174801Z
UID:10003923-1761474600-1761479100@www.redeemerweb.com
SUMMARY:Worship Service
DESCRIPTION:
URL:https://www.redeemerweb.com/event/worship-service-62/
LOCATION:COR-Main-COR 121 (Youth Classroom) (25)\, COR-Main-COR 119 (Youth Classroom A) (25)\, COR-Main-COR 120 (Kids Classroom) (25)\, COR-Main-COR 110 (Foyer) (25)\, COR-Main-COR 100 (Sanctuary) (400)\, (TV Cart)-COR-Main-COR A/V Cart 2 (75′)
END:VEVENT
BEGIN:VEVENT
DTSTART;TZID=America/New_York:20251027T180000
DTEND;TZID=America/New_York:20251027T203000
DTSTAMP:20260422T044621
CREATED:20250806T174802Z
LAST-MODIFIED:20250806T174802Z
UID:10003924-1761588000-1761597000@www.redeemerweb.com
SUMMARY:GriefShare
DESCRIPTION:
URL:https://www.redeemerweb.com/event/griefshare-8/
END:VEVENT
BEGIN:VEVENT
DTSTART;TZID=America/New_York:20251028T100000
DTEND;TZID=America/New_York:20251028T120000
DTSTAMP:20260422T044621
CREATED:20250806T174803Z
LAST-MODIFIED:20250806T174803Z
UID:10003925-1761645600-1761652800@www.redeemerweb.com
SUMMARY:Women's Bible Study
DESCRIPTION:
URL:https://www.redeemerweb.com/event/womens-bible-study-25/
END:VEVENT
BEGIN:VEVENT
DTSTART;TZID=America/New_York:20251028T190000
DTEND;TZID=America/New_York:20251028T203000
DTSTAMP:20260422T044621
CREATED:20250806T174804Z
LAST-MODIFIED:20250806T174804Z
UID:10003926-1761678000-1761683400@www.redeemerweb.com
SUMMARY:Women's Bible Study
DESCRIPTION:
URL:https://www.redeemerweb.com/event/womens-bible-study-26/
END:VEVENT
BEGIN:VEVENT
DTSTART;TZID=America/New_York:20251029T100000
DTEND;TZID=America/New_York:20251029T120000
DTSTAMP:20260422T044621
CREATED:20250806T174805Z
LAST-MODIFIED:20250806T174805Z
UID:10003927-1761732000-1761739200@www.redeemerweb.com
SUMMARY:Women's Bible Study
DESCRIPTION:
URL:https://www.redeemerweb.com/event/womens-bible-study-27/
END:VEVENT
BEGIN:VEVENT
DTSTART;TZID=America/New_York:20251029T184500
DTEND;TZID=America/New_York:20251029T201500
DTSTAMP:20260422T044621
CREATED:20250806T174807Z
LAST-MODIFIED:20250806T174807Z
UID:10003928-1761763500-1761768900@www.redeemerweb.com
SUMMARY:Men's Wednesday Night Fireside
DESCRIPTION:
URL:https://www.redeemerweb.com/event/mens-wednesday-night-fireside-61/
END:VEVENT
BEGIN:VEVENT
DTSTART;TZID=America/New_York:20251031T063000
DTEND;TZID=America/New_York:20251031T073000
DTSTAMP:20260422T044621
CREATED:20250806T174808Z
LAST-MODIFIED:20250806T174808Z
UID:10003929-1761892200-1761895800@www.redeemerweb.com
SUMMARY:Men's Friday Fellowship
DESCRIPTION:
URL:https://www.redeemerweb.com/event/mens-friday-fellowship-64/
END:VEVENT
BEGIN:VEVENT
DTSTART;TZID=America/New_York:20251102T103000
DTEND;TZID=America/New_York:20251102T114500
DTSTAMP:20260422T044621
CREATED:20250806T174809Z
LAST-MODIFIED:20250806T174809Z
UID:10003930-1762079400-1762083900@www.redeemerweb.com
SUMMARY:Worship Service
DESCRIPTION:
URL:https://www.redeemerweb.com/event/worship-service-63/
LOCATION:COR-Main-COR 121 (Youth Classroom) (25)\, COR-Main-COR 119 (Youth Classroom A) (25)\, COR-Main-COR 120 (Kids Classroom) (25)\, COR-Main-COR 110 (Foyer) (25)\, COR-Main-COR 100 (Sanctuary) (400)\, (TV Cart)-COR-Main-COR A/V Cart 2 (75′)
END:VEVENT
BEGIN:VEVENT
DTSTART;TZID=America/New_York:20251103T180000
DTEND;TZID=America/New_York:20251103T203000
DTSTAMP:20260422T044621
CREATED:20250806T174811Z
LAST-MODIFIED:20250806T174811Z
UID:10003931-1762192800-1762201800@www.redeemerweb.com
SUMMARY:GriefShare
DESCRIPTION:
URL:https://www.redeemerweb.com/event/griefshare-9/
END:VEVENT
BEGIN:VEVENT
DTSTART;TZID=America/New_York:20251104T100000
DTEND;TZID=America/New_York:20251104T120000
DTSTAMP:20260422T044621
CREATED:20250806T174812Z
LAST-MODIFIED:20250806T174812Z
UID:10003932-1762250400-1762257600@www.redeemerweb.com
SUMMARY:Women's Bible Study
DESCRIPTION:
URL:https://www.redeemerweb.com/event/womens-bible-study-28/
END:VEVENT
BEGIN:VEVENT
DTSTART;TZID=America/New_York:20251105T100000
DTEND;TZID=America/New_York:20251105T120000
DTSTAMP:20260422T044621
CREATED:20251121T201718Z
LAST-MODIFIED:20251121T201718Z
UID:10004042-1762336800-1762344000@www.redeemerweb.com
SUMMARY:Women's Bible Study
DESCRIPTION:
URL:https://www.redeemerweb.com/event/womens-bible-study-50/
END:VEVENT
BEGIN:VEVENT
DTSTART;TZID=America/New_York:20251105T183000
DTEND;TZID=America/New_York:20251105T203000
DTSTAMP:20260422T044621
CREATED:20251121T201720Z
LAST-MODIFIED:20251121T201720Z
UID:10004044-1762367400-1762374600@www.redeemerweb.com
SUMMARY:COR Youth Wednesday
DESCRIPTION:
URL:https://www.redeemerweb.com/event/cor-youth-wednesday-3/
END:VEVENT
BEGIN:VEVENT
DTSTART;TZID=America/New_York:20251105T184500
DTEND;TZID=America/New_York:20251105T201500
DTSTAMP:20260422T044621
CREATED:20251121T201719Z
LAST-MODIFIED:20251121T201719Z
UID:10004043-1762368300-1762373700@www.redeemerweb.com
SUMMARY:Men's Wednesday Night Fireside
DESCRIPTION:
URL:https://www.redeemerweb.com/event/mens-wednesday-night-fireside-72/
END:VEVENT
BEGIN:VEVENT
DTSTART;TZID=America/New_York:20251106T200000
DTEND;TZID=America/New_York:20251106T210000
DTSTAMP:20260422T044621
CREATED:20251121T201722Z
LAST-MODIFIED:20251121T201722Z
UID:10004045-1762459200-1762462800@www.redeemerweb.com
SUMMARY:Women's Bible Study (Virtual)
DESCRIPTION:Join with Google Meet: https://meet.google.com/npt-pkou-ikfOr dial: (US) +1 402-277-8288 PIN: 220387477#More phone numbers: https://tel.meet/npt-pkou-ikf?pin=5267456944618&hs=7 \nLearn more about Meet at: https://support.google.com/a/users/answer/9282720
URL:https://www.redeemerweb.com/event/womens-bible-study-virtual-14/
END:VEVENT
BEGIN:VEVENT
DTSTART;TZID=America/New_York:20251107T063000
DTEND;TZID=America/New_York:20251107T073000
DTSTAMP:20260422T044621
CREATED:20251121T201723Z
LAST-MODIFIED:20251121T201723Z
UID:10004046-1762497000-1762500600@www.redeemerweb.com
SUMMARY:Men's Friday Fellowship
DESCRIPTION:
URL:https://www.redeemerweb.com/event/mens-friday-fellowship-76/
END:VEVENT
BEGIN:VEVENT
DTSTART;TZID=America/New_York:20251109T093000
DTEND;TZID=America/New_York:20251109T101000
DTSTAMP:20260422T044621
CREATED:20251121T201724Z
LAST-MODIFIED:20251121T201724Z
UID:10004047-1762680600-1762683000@www.redeemerweb.com
SUMMARY:Sunday School
DESCRIPTION:
URL:https://www.redeemerweb.com/event/sunday-school-31/
END:VEVENT
BEGIN:VEVENT
DTSTART;TZID=America/New_York:20251109T103000
DTEND;TZID=America/New_York:20251109T114500
DTSTAMP:20260422T044621
CREATED:20251121T201725Z
LAST-MODIFIED:20251121T201725Z
UID:10004048-1762684200-1762688700@www.redeemerweb.com
SUMMARY:Worship Service
DESCRIPTION:
URL:https://www.redeemerweb.com/event/worship-service-77/
LOCATION:COR-Main-COR 121 (Youth Classroom) (25)\, COR-Main-COR 119 (Youth Classroom A) (25)\, COR-Main-COR 120 (Kids Classroom) (25)\, COR-Main-COR 110 (Foyer) (25)\, COR-Main-COR 100 (Sanctuary) (400)\, (TV Cart)-COR-Main-COR A/V Cart 2 (75′)
END:VEVENT
BEGIN:VEVENT
DTSTART;TZID=America/New_York:20251110T180000
DTEND;TZID=America/New_York:20251110T203000
DTSTAMP:20260422T044621
CREATED:20251121T201726Z
LAST-MODIFIED:20251121T201726Z
UID:10004049-1762797600-1762806600@www.redeemerweb.com
SUMMARY:GriefShare
DESCRIPTION:
URL:https://www.redeemerweb.com/event/griefshare-14/
END:VEVENT
BEGIN:VEVENT
DTSTART;TZID=America/New_York:20251110T183000
DTEND;TZID=America/New_York:20251110T220000
DTSTAMP:20260422T044621
CREATED:20251121T201727Z
LAST-MODIFIED:20251121T201727Z
UID:10004050-1762799400-1762812000@www.redeemerweb.com
SUMMARY:Joint Session/Deacon Meeting
DESCRIPTION:Join with Google Meet: https://meet.google.com/mfv-cgtw-zcmOr dial: (US) +1 540-592-1182 PIN: 503112912#More phone numbers: https://tel.meet/mfv-cgtw-zcm?pin=6807834941779&hs=7 \nLearn more about Meet at: https://support.google.com/a/users/answer/9282720
URL:https://www.redeemerweb.com/event/joint-session-deacon-meeting-16/
LOCATION:office
END:VEVENT
BEGIN:VEVENT
DTSTART;TZID=America/New_York:20251111T100000
DTEND;TZID=America/New_York:20251111T120000
DTSTAMP:20260422T044621
CREATED:20251121T201728Z
LAST-MODIFIED:20251121T201728Z
UID:10004051-1762855200-1762862400@www.redeemerweb.com
SUMMARY:Women's Bible Study
DESCRIPTION:
URL:https://www.redeemerweb.com/event/womens-bible-study-51/
END:VEVENT
BEGIN:VEVENT
DTSTART;TZID=America/New_York:20251111T190000
DTEND;TZID=America/New_York:20251111T203000
DTSTAMP:20260422T044621
CREATED:20251121T201729Z
LAST-MODIFIED:20251121T201729Z
UID:10004052-1762887600-1762893000@www.redeemerweb.com
SUMMARY:Women's Bible Study
DESCRIPTION:
URL:https://www.redeemerweb.com/event/womens-bible-study-52/
END:VEVENT
BEGIN:VEVENT
DTSTART;TZID=America/New_York:20251112T183000
DTEND;TZID=America/New_York:20251112T203000
DTSTAMP:20260422T044621
CREATED:20251121T201731Z
LAST-MODIFIED:20251121T201731Z
UID:10004054-1762972200-1762979400@www.redeemerweb.com
SUMMARY:COR Youth Wednesday
DESCRIPTION:
URL:https://www.redeemerweb.com/event/cor-youth-wednesday-4/
END:VEVENT
BEGIN:VEVENT
DTSTART;TZID=America/New_York:20251112T184500
DTEND;TZID=America/New_York:20251112T201500
DTSTAMP:20260422T044621
CREATED:20251121T201730Z
LAST-MODIFIED:20251121T201730Z
UID:10004053-1762973100-1762978500@www.redeemerweb.com
SUMMARY:Men's Wednesday Night Fireside
DESCRIPTION:
URL:https://www.redeemerweb.com/event/mens-wednesday-night-fireside-73/
END:VEVENT
BEGIN:VEVENT
DTSTART;TZID=America/New_York:20251113T183000
DTEND;TZID=America/New_York:20251113T200000
DTSTAMP:20260422T044621
CREATED:20251121T201733Z
LAST-MODIFIED:20251121T201733Z
UID:10004055-1763058600-1763064000@www.redeemerweb.com
SUMMARY:Finance Meeting
DESCRIPTION:Join with Google Meet: https://meet.google.com/emn-egnq-xgdOr dial: (US) +1 440-482-1225 PIN: 967005820#More phone numbers: https://tel.meet/emn-egnq-xgd?pin=9983416334824&hs=7 \nLearn more about Meet at: https://support.google.com/a/users/answer/9282720
URL:https://www.redeemerweb.com/event/finance-meeting-19/
LOCATION:COR-Main-COR 111 (Multipurpose) (30)
END:VEVENT
BEGIN:VEVENT
DTSTART;TZID=America/New_York:20251113T200000
DTEND;TZID=America/New_York:20251113T210000
DTSTAMP:20260422T044621
CREATED:20251121T201736Z
LAST-MODIFIED:20251121T201736Z
UID:10004058-1763064000-1763067600@www.redeemerweb.com
SUMMARY:Women's Bible Study (Virtual)
DESCRIPTION:Join with Google Meet: https://meet.google.com/npt-pkou-ikfOr dial: (US) +1 402-277-8288 PIN: 220387477#More phone numbers: https://tel.meet/npt-pkou-ikf?pin=5267456944618&hs=7 \nLearn more about Meet at: https://support.google.com/a/users/answer/9282720
URL:https://www.redeemerweb.com/event/womens-bible-study-virtual-15/
END:VEVENT
BEGIN:VEVENT
DTSTART;VALUE=DATE:20251114
DTEND;VALUE=DATE:20251117
DTSTAMP:20260422T044621
CREATED:20251121T201735Z
LAST-MODIFIED:20251121T201735Z
UID:10004057-1763078400-1763337599@www.redeemerweb.com
SUMMARY:Men’s Ministry Fall Retreat
DESCRIPTION:
URL:https://www.redeemerweb.com/event/mens-ministry-fall-retreat/
LOCATION:Ridge Haven Camp\, Brevard\, NC\, United States
GEO:35.137194;-82.679873
END:VEVENT
BEGIN:VEVENT
DTSTART;TZID=America/New_York:20251114T063000
DTEND;TZID=America/New_York:20251114T073000
DTSTAMP:20260422T044621
CREATED:20251121T201734Z
LAST-MODIFIED:20251121T201734Z
UID:10004056-1763101800-1763105400@www.redeemerweb.com
SUMMARY:Men's Friday Fellowship
DESCRIPTION:
URL:https://www.redeemerweb.com/event/mens-friday-fellowship-77/
END:VEVENT
END:VCALENDAR