BEGIN:VCALENDAR
VERSION:2.0
PRODID:-//Church of the Redeemer - ECPv6.15.17.1//NONSGML v1.0//EN
CALSCALE:GREGORIAN
METHOD:PUBLISH
X-WR-CALNAME:Church of the Redeemer
X-ORIGINAL-URL:https://www.redeemerweb.com
X-WR-CALDESC:Events for Church of the Redeemer
REFRESH-INTERVAL;VALUE=DURATION:PT1H
X-Robots-Tag:noindex
X-PUBLISHED-TTL:PT1H
BEGIN:VTIMEZONE
TZID:America/New_York
BEGIN:DAYLIGHT
TZOFFSETFROM:-0500
TZOFFSETTO:-0400
TZNAME:EDT
DTSTART:20250309T070000
END:DAYLIGHT
BEGIN:STANDARD
TZOFFSETFROM:-0400
TZOFFSETTO:-0500
TZNAME:EST
DTSTART:20251102T060000
END:STANDARD
BEGIN:DAYLIGHT
TZOFFSETFROM:-0500
TZOFFSETTO:-0400
TZNAME:EDT
DTSTART:20260308T070000
END:DAYLIGHT
BEGIN:STANDARD
TZOFFSETFROM:-0400
TZOFFSETTO:-0500
TZNAME:EST
DTSTART:20261101T060000
END:STANDARD
BEGIN:DAYLIGHT
TZOFFSETFROM:-0500
TZOFFSETTO:-0400
TZNAME:EDT
DTSTART:20270314T070000
END:DAYLIGHT
BEGIN:STANDARD
TZOFFSETFROM:-0400
TZOFFSETTO:-0500
TZNAME:EST
DTSTART:20271107T060000
END:STANDARD
END:VTIMEZONE
BEGIN:VEVENT
DTSTART;TZID=America/New_York:20260420T180000
DTEND;TZID=America/New_York:20260420T200000
DTSTAMP:20260422T043341
CREATED:20260212T181207Z
LAST-MODIFIED:20260212T181207Z
UID:10004169-1776708000-1776715200@www.redeemerweb.com
SUMMARY:Griefshare
DESCRIPTION:
URL:https://www.redeemerweb.com/event/griefshare-23/
LOCATION:COR-Main-COR 117 (Adult Classroom) (25)
END:VEVENT
BEGIN:VEVENT
DTSTART;TZID=America/New_York:20260420T180000
DTEND;TZID=America/New_York:20260420T200000
DTSTAMP:20260422T043341
CREATED:20260212T181209Z
LAST-MODIFIED:20260212T181209Z
UID:10004171-1776708000-1776715200@www.redeemerweb.com
SUMMARY:Caregivers meeting
DESCRIPTION:
URL:https://www.redeemerweb.com/event/caregivers-meeting-9/
LOCATION:COR-Main-COR 116 (Adult Classroom) (25)
END:VEVENT
BEGIN:VEVENT
DTSTART;TZID=America/New_York:20260420T190000
DTEND;TZID=America/New_York:20260420T203000
DTSTAMP:20260422T043341
CREATED:20260212T181208Z
LAST-MODIFIED:20260212T181208Z
UID:10004170-1776711600-1776717000@www.redeemerweb.com
SUMMARY:Missions Committee Meeting
DESCRIPTION:Join with Google Meet: https://meet.google.com/koc-hfxj-adwOr dial: (US) +1 318-702-0075 PIN: 803579360# \nLearn more about Meet at: https://support.google.com/a/users/answer/9282720
URL:https://www.redeemerweb.com/event/missions-committee-meeting-21/
END:VEVENT
END:VCALENDAR